{
 "currentVersion": 10.81,
 "serviceDescription": "Atlas/lf_dem1sec_noExclusions_noNegValues",
 "name": "Atlas/lf_dem1sec_noExclusions_noNegValues",
 "description": "",
 "extent": {
  "xmin": 140.9990277782187,
  "ymin": -37.505138889140305,
  "xmax": 153.63902777842276,
  "ymax": -28.156805555656057,
  "spatialReference": {
   "wkid": 4283,
   "latestWkid": 4283
  }
 },
 "initialExtent": {
  "xmin": 140.9990277782187,
  "ymin": -37.505138889140305,
  "xmax": 153.63902777842276,
  "ymax": -28.156805555656057,
  "spatialReference": {
   "wkid": 4283,
   "latestWkid": 4283
  }
 },
 "fullExtent": {
  "xmin": 140.9990277782187,
  "ymin": -37.505138889140305,
  "xmax": 153.63902777842276,
  "ymax": -28.156805555656057,
  "spatialReference": {
   "wkid": 4283,
   "latestWkid": 4283
  }
 },
 "pixelSizeX": 2.777777777822621E-4,
 "pixelSizeY": 2.777777777822621E-4,
 "bandCount": 1,
 "pixelType": "F32",
 "minPixelSize": 0,
 "maxPixelSize": 0,
 "copyrightText": "",
 "serviceDataType": "esriImageServiceDataTypeGeneric",
 "minValues": [
  0
 ],
 "maxValues": [
  2224.3244628906
 ],
 "meanValues": [
  287.66834286321
 ],
 "stdvValues": [
  282.71197986207
 ],
 "objectIdField": "",
 "fields": [],
 "capabilities": "Image,Metadata,Mensuration",
 "defaultMosaicMethod": "Center",
 "allowedMosaicMethods": "",
 "sortField": "",
 "sortValue": null,
 "sortAscending": true,
 "mosaicOperator": "First",
 "defaultCompressionQuality": 75,
 "defaultResamplingMethod": "Bilinear",
 "maxImageHeight": 4100,
 "maxImageWidth": 15000,
 "allowRasterFunction": true,
 "rasterFunctionInfos": [
  {
   "name": "None",
   "description": "",
   "help": ""
  }
 ],
 "rasterTypeInfos": [
  {
   "name": "Raster Dataset",
   "description": "Supports all ArcGIS Raster Datasets",
   "help": ""
  }
 ],
 "mensurationCapabilities": "Basic",
 "hasHistograms": true,
 "hasColormap": false,
 "hasRasterAttributeTable": false,
 "minScale": 0,
 "maxScale": 0,
 "exportTilesAllowed": false,
 "hasMultidimensions": false,
 "supportsStatistics": false,
 "supportsAdvancedQueries": false,
 "editFieldsInfo": null,
 "ownershipBasedAccessControlForRasters": null,
 "allowComputeTiePoints": false,
 "useStandardizedQueries": false,
 "advancedQueryCapabilities": {
  "useStandardizedQueries": false,
  "supportsStatistics": false,
  "supportsOrderBy": false,
  "supportsDistinct": false,
  "supportsPagination": false
 },
 "spatialReference": {
  "wkid": 4283,
  "latestWkid": 4283
 }
}
