View In:
ArcGIS JavaScript
ArcGIS Online Map Viewer
ArcGIS Earth
ArcMap
View Footprint In:
ArcGIS Online Map Viewer
Service Description: Atlas/cw_precipann_f
Name: Atlas/cw_precipann_f
Description:
Single Fused Map Cache: false
Extent:
XMin: 140.9990277782187
YMin: -37.505138889140305
XMax: 153.63902777842276
YMax: -28.156805555656057
Spatial Reference: 4283
(4283)
Initial Extent:
XMin: 140.9990277782187
YMin: -37.505138889140305
XMax: 153.63902777842276
YMax: -28.156805555656057
Spatial Reference: 4283
(4283)
Full Extent:
XMin: 140.9990277782187
YMin: -37.505138889140305
XMax: 153.63902777842276
YMax: -28.156805555656057
Spatial Reference: 4283
(4283)
Pixel Size X: 2.777777777822621E-4
Pixel Size Y: 2.777777777822621E-4
Band Count: 1
Pixel Type: F32
RasterFunction Infos: {"rasterFunctionInfos": [{
"name": "None",
"description": "",
"help": ""
}]}
Mensuration Capabilities: Basic
Has Histograms: true
Has Colormap: false
Has Multi Dimensions : false
Rendering Rule:
Min Scale: 0
Max Scale: 0
Copyright Text:
Service Data Type: esriImageServiceDataTypeGeneric
Min Values: 137.92161560059
Max Values: 3010.0842285156
Mean Values: 540.89474314207
Standard Deviation Values: 318.87724855666
Object ID Field:
Fields:
None
Default Mosaic Method: Center
Allowed Mosaic Methods:
SortField:
SortValue: null
Mosaic Operator: First
Default Compression Quality: 75
Default Resampling Method: Bilinear
Max Record Count: null
Max Image Height: 4100
Max Image Width: 15000
Max Download Image Count: null
Max Mosaic Image Count: null
Allow Raster Function: true
Allow Copy: null
Allow Analysis: null
Allow Compute TiePoints: false
Supports Statistics: false
Supports Advanced Queries: false
Use StandardizedQueries: false
Raster Type Infos:
Name: Raster Dataset
Description: Supports all ArcGIS Raster Datasets
Help:
Has Raster Attribute Table: false
Edit Fields Info: null
Ownership Based AccessControl For Rasters: null
Child Resources:
Info
Histograms
Key Properties
Legend
Raster Function Infos
Supported Operations:
Export Image
Identify
Measure
Compute Histograms
Compute Statistics Histograms
Get Samples
Compute Class Statistics
Query Boundary
Compute Pixel Location
Validate
Project